BEGIN:VCALENDAR
VERSION:2.0
PRODID:icalendar-ruby
CALSCALE:GREGORIAN
METHOD:PUBLISH
BEGIN:VEVENT
DTSTAMP:20260422T123129Z
UID:65-249490@ststephensorinda.org
DTSTART:20260428T170000Z
DTEND:20260428T190000Z
CLASS:PUBLIC
CREATED:20260414T131931
DESCRIPTION:St. Stephen’s Book Club will meet on Tuesday\, Tuesday\,  Ap
 ril 28 at 10 a.m in the Parish Hall to discuss “The Importance of Being 
 Seven” a novel by Alexander McCall Smith. Coffee and refreshments will b
 e served prior to the meeting. We welcome those who love to read and enjoy
  a lively discussion so please join us! For any questions\, please reach o
 ut to Barbara Wackett.
LAST-MODIFIED:20260414T131931
LOCATION:Parish Hall
SUMMARY:Book Club
URL;VALUE=URI:https://www.ststephensorinda.org/events/book-club/2026-04-28
END:VEVENT
END:VCALENDAR
